BEGIN:VCALENDAR
VERSION:2.0
PRODID:-//FC Forstern Belegungsplan//DE
CALSCALE:GREGORIAN
METHOD:PUBLISH
X-WR-CALNAME:FC Forstern – Damen
X-WR-TIMEZONE:Europe/Berlin
BEGIN:VEVENT
SUMMARY:🏠 Frauen · Bayernliga
DTSTART;TZID=Europe/Berlin:20260418T160000
DTEND;TZID=Europe/Berlin:20260418T180000
UID:fcforstern-3026@belegungsplan
DESCRIPTION:FC Forstern vs 1. FC Nürnberg II\nTeam: Frauen
LOCATION:Sportplatz Forstern
STATUS:TENTATIVE
END:VEVENT
BEGIN:VEVENT
SUMMARY:🏠 Frauen · Bezirksoberliga
DTSTART;TZID=Europe/Berlin:20260419T110000
DTEND;TZID=Europe/Berlin:20260419T130000
UID:fcforstern-3169@belegungsplan
DESCRIPTION:FC Forstern II vs TSV Turnerbund München I\nTeam: Frauen
LOCATION:Sportplatz Forstern
STATUS:TENTATIVE
END:VEVENT
BEGIN:VEVENT
SUMMARY:✈️ Frauen · A Klasse
DTSTART;TZID=Europe/Berlin:20260419T150000
DTEND;TZID=Europe/Berlin:20260419T170000
UID:fcforstern-3170@belegungsplan
DESCRIPTION:SG Aschheim/Kirchheimer SC II vs (SG) SV Hohenlinden/FC Markt\
 nTeam: Frauen
LOCATION:Sportpark Aschheim
STATUS:TENTATIVE
END:VEVENT
BEGIN:VEVENT
SUMMARY:✈️ Frauen · A Klasse
DTSTART;TZID=Europe/Berlin:20260424T193000
DTEND;TZID=Europe/Berlin:20260424T213000
UID:fcforstern-3171@belegungsplan
DESCRIPTION:(SG) SV Hohenlinden/FC Markt vs (SG)TSV München-Ost/\nTeam: F
 rauen
LOCATION:Sportplatz Hohenlinden
STATUS:TENTATIVE
END:VEVENT
BEGIN:VEVENT
SUMMARY:✈️ Frauen · Bayernliga
DTSTART;TZID=Europe/Berlin:20260425T170000
DTEND;TZID=Europe/Berlin:20260425T190000
UID:fcforstern-3172@belegungsplan
DESCRIPTION:FC Ruderting vs FC Forstern\nTeam: Frauen
LOCATION:Sportanlage Ruderting
STATUS:TENTATIVE
END:VEVENT
BEGIN:VEVENT
SUMMARY:✈️ Frauen · Bezirksoberliga
DTSTART;TZID=Europe/Berlin:20260426T110000
DTEND;TZID=Europe/Berlin:20260426T130000
UID:fcforstern-3173@belegungsplan
DESCRIPTION:FSV Höhenrain vs FC Forstern II\nTeam: Frauen
LOCATION:Sportplatz Höhenrain
STATUS:TENTATIVE
END:VEVENT
BEGIN:VEVENT
SUMMARY:🏠 Frauen · Bayernliga
DTSTART;TZID=Europe/Berlin:20260502T160000
DTEND;TZID=Europe/Berlin:20260502T180000
UID:fcforstern-3174@belegungsplan
DESCRIPTION:FC Forstern vs TSV Theuern\nTeam: Frauen
LOCATION:Sportplatz Forstern
STATUS:TENTATIVE
END:VEVENT
BEGIN:VEVENT
SUMMARY:🏠 Frauen · Bezirksoberliga
DTSTART;TZID=Europe/Berlin:20260503T110000
DTEND;TZID=Europe/Berlin:20260503T130000
UID:fcforstern-3175@belegungsplan
DESCRIPTION:FC Forstern II vs FC 1927 Oberau\nTeam: Frauen
LOCATION:Sportplatz Forstern
STATUS:TENTATIVE
END:VEVENT
BEGIN:VEVENT
SUMMARY:✈️ Frauen · A Klasse
DTSTART;TZID=Europe/Berlin:20260503T133000
DTEND;TZID=Europe/Berlin:20260503T153000
UID:fcforstern-3176@belegungsplan
DESCRIPTION:ESV M.-Freimann II vs (SG) SV Hohenlinden/FC Markt\nTeam: Frau
 en
LOCATION:Sportanlage Freimann
STATUS:TENTATIVE
END:VEVENT
BEGIN:VEVENT
SUMMARY:✈️ Frauen · Bayernliga
DTSTART;TZID=Europe/Berlin:20260510T140000
DTEND;TZID=Europe/Berlin:20260510T160000
UID:fcforstern-3177@belegungsplan
DESCRIPTION:FC Ingolstadt 04 II vs FC Forstern\nTeam: Frauen
LOCATION:AUDI Sportpark
STATUS:TENTATIVE
END:VEVENT
BEGIN:VEVENT
SUMMARY:✈️ Frauen · Bezirksoberliga
DTSTART;TZID=Europe/Berlin:20260510T150000
DTEND;TZID=Europe/Berlin:20260510T170000
UID:fcforstern-3178@belegungsplan
DESCRIPTION:TSV Eching I vs FC Forstern II\nTeam: Frauen
LOCATION:Willi-Widhopf-Stadion
STATUS:TENTATIVE
END:VEVENT
BEGIN:VEVENT
SUMMARY:✈️ Frauen · A Klasse
DTSTART;TZID=Europe/Berlin:20260510T170000
DTEND;TZID=Europe/Berlin:20260510T190000
UID:fcforstern-3179@belegungsplan
DESCRIPTION:(SG) SV DJK Taufkirchen / FC Stern vs (SG) SV Hohenlinden/FC M
 arkt\nTeam: Frauen
LOCATION:Sportzentrum Taufkirchen
STATUS:TENTATIVE
END:VEVENT
BEGIN:VEVENT
SUMMARY:🏠 Frauen · Bezirksoberliga
DTSTART;TZID=Europe/Berlin:20260513T194500
DTEND;TZID=Europe/Berlin:20260513T214500
UID:fcforstern-3180@belegungsplan
DESCRIPTION:FC Forstern II vs FC Markt Schwaben\nTeam: Frauen
LOCATION:Sportplatz Forstern
STATUS:TENTATIVE
END:VEVENT
BEGIN:VEVENT
SUMMARY:✈️ Frauen · A Klasse
DTSTART;TZID=Europe/Berlin:20260515T193000
DTEND;TZID=Europe/Berlin:20260515T213000
UID:fcforstern-3181@belegungsplan
DESCRIPTION:(SG) SV Hohenlinden/FC Markt vs SV 1880 München II\nTeam: Fra
 uen
LOCATION:Sportplatz Hohenlinden
STATUS:TENTATIVE
END:VEVENT
BEGIN:VEVENT
SUMMARY:✈️ Frauen · Bayernliga
DTSTART;TZID=Europe/Berlin:20260516T160000
DTEND;TZID=Europe/Berlin:20260516T180000
UID:fcforstern-3182@belegungsplan
DESCRIPTION:SV 67 Weinberg II vs FC Forstern\nTeam: Frauen
LOCATION:Sportanlage Weinberg Vehlberger Straße 58
STATUS:TENTATIVE
END:VEVENT
BEGIN:VEVENT
SUMMARY:🏠 Frauen · Bezirksoberliga
DTSTART;TZID=Europe/Berlin:20260517T110000
DTEND;TZID=Europe/Berlin:20260517T130000
UID:fcforstern-3183@belegungsplan
DESCRIPTION:FC Forstern II vs SV Saaldorf\nTeam: Frauen
LOCATION:Sportplatz Forstern
STATUS:TENTATIVE
END:VEVENT
BEGIN:VEVENT
SUMMARY:✈️ Frauen · A Klasse
DTSTART;TZID=Europe/Berlin:20260522T193000
DTEND;TZID=Europe/Berlin:20260522T213000
UID:fcforstern-3184@belegungsplan
DESCRIPTION:(SG) SV Hohenlinden/FC Markt vs SV Untermenzing II (flex)\nTea
 m: Frauen
STATUS:TENTATIVE
END:VEVENT
BEGIN:VEVENT
SUMMARY:✈️ Frauen · Bezirksoberliga
DTSTART;TZID=Europe/Berlin:20260523T123000
DTEND;TZID=Europe/Berlin:20260523T143000
UID:fcforstern-3185@belegungsplan
DESCRIPTION:SpVgg Röhrmoos vs FC Forstern II\nTeam: Frauen
LOCATION:Sportanlage Röhrmoos
STATUS:TENTATIVE
END:VEVENT
BEGIN:VEVENT
SUMMARY:🏠 Frauen · Bayernliga
DTSTART;TZID=Europe/Berlin:20260523T160000
DTEND;TZID=Europe/Berlin:20260523T180000
UID:fcforstern-3186@belegungsplan
DESCRIPTION:FC Forstern vs FC Stern München\nTeam: Frauen
LOCATION:Sportplatz Forstern
STATUS:TENTATIVE
END:VEVENT
BEGIN:VEVENT
SUMMARY:✈️ Frauen · Bayernliga
DTSTART;TZID=Europe/Berlin:20260530T160000
DTEND;TZID=Europe/Berlin:20260530T180000
UID:fcforstern-3187@belegungsplan
DESCRIPTION:1. FFC HOF vs FC Forstern\nTeam: Frauen
LOCATION:SF SPORTPARK im Stadion an der Osseckerstraße
STATUS:TENTATIVE
END:VEVENT
BEGIN:VEVENT
SUMMARY:✈️ Frauen · A Klasse
DTSTART;TZID=Europe/Berlin:20260530T170000
DTEND;TZID=Europe/Berlin:20260530T190000
UID:fcforstern-3188@belegungsplan
DESCRIPTION:TSV Turnerbund München II vs (SG) SV Hohenlinden/FC Markt\nTe
 am: Frauen
LOCATION:BSA Agilolfingerstraße
STATUS:TENTATIVE
END:VEVENT
BEGIN:VEVENT
SUMMARY:🏠 Frauen · Bezirksoberliga
DTSTART;TZID=Europe/Berlin:20260531T150000
DTEND;TZID=Europe/Berlin:20260531T170000
UID:fcforstern-3189@belegungsplan
DESCRIPTION:FC Forstern II vs FC Langengeisling\nTeam: Frauen
LOCATION:Sportplatz Forstern
STATUS:TENTATIVE
END:VEVENT
END:VCALENDAR
